BEGIN:VCALENDAR
VERSION:2.0
PRODID:-//wp-events-plugin.com//7.2.1//EN
TZID:Europe/Berlin
X-WR-TIMEZONE:Europe/Berlin
BEGIN:VEVENT
UID:35@dav-leitzachtal.de
DTSTART;TZID=Europe/Berlin:20210730T200000
DTEND;TZID=Europe/Berlin:20210730T220000
DTSTAMP:20210625T101247Z
URL:https://www.dav-leitzachtal.de/wp-touren/events/hauptversammlung-dav-l
 eitzachtal/
SUMMARY:Hauptversammlung DAV Leitzachtal
DESCRIPTION:Unsere Hauptversammlung musste coronabedingt  mehrmals verscho
 ben werden\, nun steht der neuer Termin fest.\n\nAlle Mitglieder sind herz
 lich eingeladen.\n\nFreitag\, 30. Juli im Gasthof Kirchstiegl\, Elbach\, B
 eginn: 20.00 Uhr.\n\n&nbsp\;\n\nHier geht's zur Tagesordnung
LOCATION:Gasthof Kirchstiegl\, Schwarzenbergstraße 73\, Fischbachau\, 8373
 0\, Deutschland
X-APPLE-STRUCTURED-LOCATION;VALUE=URI;X-ADDRESS=Schwarzenbergstraße 73\, F
 ischbachau\, 83730\, Deutschland;X-APPLE-RADIUS=100;X-TITLE=Gasthof Kirchs
 tiegl:geo:0,0
END:VEVENT
BEGIN:VTIMEZONE
TZID:Europe/Berlin
X-LIC-LOCATION:Europe/Berlin
BEGIN:DAYLIGHT
DTSTART:20210328T030000
TZOFFSETFROM:+0100
TZOFFSETTO:+0200
TZNAME:CEST
END:DAYLIGHT
END:VTIMEZONE
END:VCALENDAR