BEGIN:VCALENDAR
VERSION:2.0
PRODID:-//wp-events-plugin.com//7.2.1//EN
TZID:Europe/Berlin
X-WR-TIMEZONE:Europe/Berlin
BEGIN:VEVENT
UID:182@dav-leitzachtal.de
DTSTART;TZID=Europe/Berlin;VALUE=DATE:20230423
DTEND;TZID=Europe/Berlin;VALUE=DATE:20230424
DTSTAMP:20230416T192825Z
URL:https://www.dav-leitzachtal.de/wp-touren/events/grosser-riesenkopf-133
 7-m/
SUMMARY:Großer Riesenkopf 1337 m
DESCRIPTION:Leichte aussichtsreiche Bergwanderung über dem Inntal bei Flin
 tsbach. Eine Einkehr im Berggasthof Hohe Asten\, ist beim Abstieg geplant
 .\n\nAufstieg ab Fischbach über die Wolfsschlucht (Philosophensteig). Au
 ftstiegszeit ca. 2 3/4 Std./850 HM. Abstieg ca. 2 1/2 Std. über den Fahr
 weg\nbis zu Burgruine Falkenstein und zurück nach Fischbach.\n\nTreffpunk
 t: 8:00 Uhr\, Kletterstadl Aurach\, Benzingstraße 5. Von dort in einer Fa
 hrgemeinschaft(en) zum Ausgangspunkt der Tour in Fischbach.\n\nAnmeldung 
 bitte bis Freitag 21.04.2023 20:00 Uhr bei Berger-Hofmann Erich\, Tel: 
 0152 5799 1332.
CATEGORIES:Bergtour
END:VEVENT
BEGIN:VTIMEZONE
TZID:Europe/Berlin
X-LIC-LOCATION:Europe/Berlin
BEGIN:DAYLIGHT
DTSTART:20230326T030000
TZOFFSETFROM:+0100
TZOFFSETTO:+0200
TZNAME:CEST
END:DAYLIGHT
END:VTIMEZONE
END:VCALENDAR