BEGIN:VCALENDAR
VERSION:2.0
PRODID:-//wp-events-plugin.com//7.2.1//EN
TZID:Europe/Berlin
X-WR-TIMEZONE:Europe/Berlin
BEGIN:VEVENT
UID:43@dav-leitzachtal.de
DTSTART;TZID=Europe/Berlin;VALUE=DATE:20211010
DTEND;TZID=Europe/Berlin;VALUE=DATE:20211011
DTSTAMP:20210802T120705Z
URL:https://www.dav-leitzachtal.de/wp-touren/events/grasleitenstein-1268-m
 -grasleitenkopf-1438-m-mangfallgebirge/
SUMMARY:Grasleitenstein 1268 m\, Grasleitenkopf 1438 m\, Mangfallgebirge
DESCRIPTION:Grasleitenstein 1268 m\, Grasleitenkopf 1438 m\, Mangfallgebirg
 e\nLeichte Bergwanderung mit Ruhe und guter Aussicht\, Schwindelfreiheit u
 . Trittsicherheit erforderlich\, Aufstieg von Lenggries/Anger über Untere
 n und Oberen Bichl zum Gipfel\nca. 2\,5 Std./700 Hm\, Abstieg über Lenggr
 ieser Hütte u. Tradln z. Ausgangspunkt\nTP: Nach Vereinbarung\, Anmeldung
  bis 8.10. bei Franz Schnitzlbaumer
CATEGORIES:Bergtour
END:VEVENT
BEGIN:VTIMEZONE
TZID:Europe/Berlin
X-LIC-LOCATION:Europe/Berlin
BEGIN:DAYLIGHT
DTSTART:20210328T030000
TZOFFSETFROM:+0100
TZOFFSETTO:+0200
TZNAME:CEST
END:DAYLIGHT
END:VTIMEZONE
END:VCALENDAR