BEGIN:VCALENDAR
VERSION:2.0
PRODID:-//wp-events-plugin.com//7.2.1//EN
TZID:Europe/Berlin
X-WR-TIMEZONE:Europe/Berlin
BEGIN:VEVENT
UID:28@dav-leitzachtal.de
DTSTART;TZID=Europe/Berlin:20210619T100000
DTEND;TZID=Europe/Berlin:20210619T150000
DTSTAMP:20210609T182041Z
URL:https://www.dav-leitzachtal.de/wp-touren/events/gemuetliche-radl-rundt
 our-ueber-den-elendsattel-jugend/
SUMMARY:Gemütliche Radl-Rundtour über den Elendsattel (Jugend)
DESCRIPTION:Nur mit HELM!\n\nGemütliche Radl-Rundtour über den Elendsatte
 l im Uhrzeigersinn (Aurach – Bayrischzell -\nElendsattel – Valepp - Sp
 itzingsee - Neuhaus – Aurach) inkl. Brotzeitpause.\n\nStart bzw. Ziel am
  Kletterstadl in Aurach.\n\nInfos und Anmeldung bei Anja oder Felix\, juge
 nd@dav-leitzachtal.de
CATEGORIES:Jugendgruppe,Mountainbike
END:VEVENT
BEGIN:VTIMEZONE
TZID:Europe/Berlin
X-LIC-LOCATION:Europe/Berlin
BEGIN:DAYLIGHT
DTSTART:20210328T030000
TZOFFSETFROM:+0100
TZOFFSETTO:+0200
TZNAME:CEST
END:DAYLIGHT
END:VTIMEZONE
END:VCALENDAR