BEGIN:VCALENDAR
VERSION:2.0
PRODID:-//wp-events-plugin.com//7.2.1//EN
TZID:Europe/Berlin
X-WR-TIMEZONE:Europe/Berlin
BEGIN:VEVENT
UID:58@dav-leitzachtal.de
DTSTART;TZID=Europe/Berlin;VALUE=DATE:20211113
DTEND;TZID=Europe/Berlin;VALUE=DATE:20211114
DTSTAMP:20211107T213857Z
URL:https://www.dav-leitzachtal.de/wp-touren/events/geigelstein/
SUMMARY:Geigelstein (1808m)\,  Chiemgau
DESCRIPTION:Die DAV Sektionen Hausham und Leitzachtal unternehmen am Samsta
 g\, den 13. November eine Bergwanderung auf den Geigelstein (1808m) im Chi
 emgau. Ausgangspunkt für diese Tour ist Huben kurz vor Sachrang. Der Aufs
 tieg (1080 Hm) beträgt ca. 3 Std und geht über die Schreckalm und die Ob
 erkaseralm zum Gipfel.\n\nAufgrund des Neuschnees der letzten Woche sind G
 rödel empfehlenswert. Der Abstieg erfolgt über die Priener Hütte und di
 e Rodelbahn zurück zum Parkplatz.\n\nTreffpunkt ist um 8 Uhr in Elbach bz
 w. Hundham.\n\nInfos und Anmeldung bei Julia Riedl\, Tel:: 08028/1229
CATEGORIES:Bergtour
END:VEVENT
BEGIN:VTIMEZONE
TZID:Europe/Berlin
X-LIC-LOCATION:Europe/Berlin
BEGIN:STANDARD
DTSTART:20211031T020000
TZOFFSETFROM:+0200
TZOFFSETTO:+0100
TZNAME:CET
END:STANDARD
END:VTIMEZONE
END:VCALENDAR