BEGIN:VCALENDAR
VERSION:2.0
PRODID:-//wp-events-plugin.com//7.2.1//EN
TZID:Europe/Berlin
X-WR-TIMEZONE:Europe/Berlin
BEGIN:VEVENT
UID:91@dav-leitzachtal.de
DTSTART;TZID=Europe/Berlin;VALUE=DATE:20220704
DTEND;TZID=Europe/Berlin;VALUE=DATE:20220705
DTSTAMP:20220419T235914Z
URL:https://www.dav-leitzachtal.de/wp-touren/events/gamskogel-1449-m-kaise
 rgebirge-senioren-tour/
SUMMARY:Gamskogel 1449 m\, Kaisergebirge\, Senioren Tour
DESCRIPTION:Leichte Bergwanderung vor großartiger Kulisse\, Aufstieg v. Be
 rgstation\nKaiserlift ca. 1\,5 Std./250 Hm\, Abst. über Kaindlhütte z. L
 ift.\nTP: 8.00 Uhr\, geg. Ghf. Post B‘zell\, Anmeldung bei Lotte Pichler
CATEGORIES:Wandern
END:VEVENT
BEGIN:VTIMEZONE
TZID:Europe/Berlin
X-LIC-LOCATION:Europe/Berlin
BEGIN:DAYLIGHT
DTSTART:20220327T030000
TZOFFSETFROM:+0100
TZOFFSETTO:+0200
TZNAME:CEST
END:DAYLIGHT
END:VTIMEZONE
END:VCALENDAR