BEGIN:VCALENDAR
VERSION:2.0
PRODID:-//wp-events-plugin.com//7.2.1//EN
TZID:Europe/Berlin
X-WR-TIMEZONE:Europe/Berlin
BEGIN:VEVENT
UID:116@dav-leitzachtal.de
DTSTART;TZID=Europe/Berlin;VALUE=DATE:20220821
DTEND;TZID=Europe/Berlin;VALUE=DATE:20220823
DTSTAMP:20220817T034008Z
URL:https://www.dav-leitzachtal.de/wp-touren/events/friesenberghaus-2477-m
 -olperer-huette-2388-m-zillertaler-alpen/
SUMMARY:Friesenberghaus 2477 m\, Olperer Hütte 2388 m\, Zillertaler Alpen
DESCRIPTION:Mittelschwere Bergtour\, Aufstieg vom Schlegeisspeicher über d
 en Berliner Höhenweg zum Friesenberghaus.\nGehzeiten: ca. 2\,5 Std./700 H
 m\, nach Einkehr weiter zur Olperer Hütte ca. 2 Std.\nÜbernachtung\, Abs
 tieg über Neumarkter Runde zurück zum Schlegeissee ca. 2\,5 Std.\n\nTref
 fpunkt: 6.00 Uhr\, Feuerwehr Wörnsmühl\, Fahrgemeinschaft\, Anmeldung be
 i Birgit Wörndl\, Tel. 08025 286837
CATEGORIES:Bergtour
END:VEVENT
BEGIN:VTIMEZONE
TZID:Europe/Berlin
X-LIC-LOCATION:Europe/Berlin
BEGIN:DAYLIGHT
DTSTART:20220327T030000
TZOFFSETFROM:+0100
TZOFFSETTO:+0200
TZNAME:CEST
END:DAYLIGHT
END:VTIMEZONE
END:VCALENDAR