BEGIN:VCALENDAR
VERSION:2.0
PRODID:-//wp-events-plugin.com//7.2.1//EN
TZID:Europe/Berlin
X-WR-TIMEZONE:Europe/Berlin
BEGIN:VEVENT
UID:135@dav-leitzachtal.de
DTSTART;TZID=Europe/Berlin:20221116T090000
DTEND;TZID=Europe/Berlin:20221116T160000
DTSTAMP:20221113T193630Z
URL:https://www.dav-leitzachtal.de/wp-touren/events/fockenstein-1564-m/
SUMMARY:Bergtour Fockenstein
DESCRIPTION:Die Oberlandler Seniorengruppe unternimmt am Mittwoch eine Wand
 erung auf den Fockenstein (1564 m) im Tegernseer Tal. Der ca. 2 1/2 stünd
 ige Aufstieg erfolgt von Bad Wiessee aus über die Aueralm (1300m). Für d
 en Gipfelanstieg ist Trittsicherheit und Schwindelfreiheit Voraussetzung. 
 Treffpunkt für diese Tour ist um 9 Uhr am Bahnhof in Neuhaus.\nAnmeldunge
 n und Infos bei Julia Riedl\, Tel:08028/1229 oder 0162/4845129.
CATEGORIES:Oberlandler-Senioren,Wandern
END:VEVENT
BEGIN:VTIMEZONE
TZID:Europe/Berlin
X-LIC-LOCATION:Europe/Berlin
BEGIN:STANDARD
DTSTART:20221030T020000
TZOFFSETFROM:+0200
TZOFFSETTO:+0100
TZNAME:CET
END:STANDARD
END:VTIMEZONE
END:VCALENDAR