BEGIN:VCALENDAR
VERSION:2.0
PRODID:-//wp-events-plugin.com//7.2.1//EN
TZID:Europe/Berlin
X-WR-TIMEZONE:Europe/Berlin
BEGIN:VEVENT
UID:219@dav-leitzachtal.de
DTSTART;TZID=Europe/Berlin:20240420T200000
DTEND;TZID=Europe/Berlin:20240420T220000
DTSTAMP:20240410T152505Z
URL:https://www.dav-leitzachtal.de/wp-touren/events/filmabend-eine-saison-
 auf-der-gamshuette/
SUMMARY:Filmabend "Eine Saison auf der Gamshütte"
DESCRIPTION:Der Film begleitet die Pächterin Corina und ihr Team während 
 einer ganzen Saison und illustriert die auftretenden Herausforderungen sow
 ie deren erfolgreiche Bewältigung. Anschließend beantwortet die Hüttenw
 irtin Fragen aus dem Publikum.\n\nDie Veranstaltung der Sektion Otterfing 
 findet am 20. April 2024 ab 20 Uhr im Kultur im Oberbräu in Holzkirchen s
 tatt und der Eintritt ist frei! Wir bitten alle Gäste dieser Veranstaltun
 g ihre Smartphones (Handys) mitzubringen\, um interaktiv teilnehmen zu kö
 nnen.\n\nDiese Veranstaltung findet im Rahmen des „Klimafrühling Oberla
 nd“ statt.
CATEGORIES:Vortrag
END:VEVENT
BEGIN:VTIMEZONE
TZID:Europe/Berlin
X-LIC-LOCATION:Europe/Berlin
BEGIN:DAYLIGHT
DTSTART:20240331T030000
TZOFFSETFROM:+0100
TZOFFSETTO:+0200
TZNAME:CEST
END:DAYLIGHT
END:VTIMEZONE
END:VCALENDAR