BEGIN:VCALENDAR
VERSION:2.0
PRODID:-//wp-events-plugin.com//7.2.1//EN
TZID:Europe/Berlin
X-WR-TIMEZONE:Europe/Berlin
BEGIN:VEVENT
UID:86@dav-leitzachtal.de
DTSTART;TZID=Europe/Berlin;VALUE=DATE:20220625
DTEND;TZID=Europe/Berlin;VALUE=DATE:20220626
DTSTAMP:20220419T235311Z
URL:https://www.dav-leitzachtal.de/wp-touren/events/feldberg-1813-m-strips
 enkopf-1807-m-kaisergebirge/
SUMMARY:Feldberg 1813 m\, Stripsenkopf 1807 m\, Kaisergebirge
DESCRIPTION:Abwechslungs- u. aussichtsreiche Bergtour\, Aufst. v. Griesner 
 Alm 3 Std./1000 Hm\nTP: 7.00 Uhr\, Kletterstadl Aurach\, Anmeldung bei Rap
 hael Scriba
CATEGORIES:Bergtour
END:VEVENT
BEGIN:VTIMEZONE
TZID:Europe/Berlin
X-LIC-LOCATION:Europe/Berlin
BEGIN:DAYLIGHT
DTSTART:20220327T030000
TZOFFSETFROM:+0100
TZOFFSETTO:+0200
TZNAME:CEST
END:DAYLIGHT
END:VTIMEZONE
END:VCALENDAR