BEGIN:VCALENDAR
VERSION:2.0
PRODID:-//wp-events-plugin.com//7.2.1//EN
TZID:Europe/Berlin
X-WR-TIMEZONE:Europe/Berlin
BEGIN:VEVENT
UID:248@dav-leitzachtal.de
DTSTART;TZID=Europe/Berlin:20240920T160000
DTEND;TZID=Europe/Berlin:20240920T183000
DTSTAMP:20240917T093542Z
URL:https://www.dav-leitzachtal.de/wp-touren/events/eroeffnung-pumptrack-f
 ischbachau/
SUMMARY:Eröffnung Pumptrack Fischbachau
DESCRIPTION:Externe Veranstaltung\, aber weil es soooo cool ist gerne hier 
 etwas Werbung:\n\n&nbsp\;\n\nAb 16 Uhr: Eröffnungsfeier vom Pumptrack Fis
 chbachau findet am 20. Sept. ab 16 Uhr statt. Wir freuen uns sehr über di
 ese neue Einrichtung in unserer Gemeinde für junge und junggebliebene Men
 schen!\n\n&nbsp\;\n\n
END:VEVENT
BEGIN:VTIMEZONE
TZID:Europe/Berlin
X-LIC-LOCATION:Europe/Berlin
BEGIN:DAYLIGHT
DTSTART:20240331T030000
TZOFFSETFROM:+0100
TZOFFSETTO:+0200
TZNAME:CEST
END:DAYLIGHT
END:VTIMEZONE
END:VCALENDAR