BEGIN:VCALENDAR
VERSION:2.0
PRODID:-//wp-events-plugin.com//7.2.1//EN
TZID:Europe/Berlin
X-WR-TIMEZONE:Europe/Berlin
BEGIN:VEVENT
UID:133@dav-leitzachtal.de
DTSTART;TZID=Europe/Berlin:20221111T163000
DTEND;TZID=Europe/Berlin:20221111T180000
DTSTAMP:20221104T163709Z
URL:https://www.dav-leitzachtal.de/wp-touren/events/eltern-kind-kletterkur
 s/
SUMMARY:Eltern-Kind Kletterkurs
DESCRIPTION:Die Sektion Leitzachtal veranstaltet einen Kletterkurs für Elt
 ern/-teil mit Kind/ern ab 7 Jahre. Der Kurs umfasst 3 Termine am 11.\, 18 
 und 25. Novemberjeweils von 16:30 bis 18 Uhr in unserem Kletterstadl in Fi
 schbachau\, Aurach. Preis pro Familien 35 Euro\, für Mitglieder 25 Euro\,
  Die Ausrüstung kann ausgeliehen werden und ist im Preis inklusive. Anmel
 dung bitte per Email an helmut.walter@dav-leitzachtal.de\, Tel. 0175 22514
 12
CATEGORIES:Ausbildung,Klettern
END:VEVENT
BEGIN:VTIMEZONE
TZID:Europe/Berlin
X-LIC-LOCATION:Europe/Berlin
BEGIN:STANDARD
DTSTART:20221030T020000
TZOFFSETFROM:+0200
TZOFFSETTO:+0100
TZNAME:CET
END:STANDARD
END:VTIMEZONE
END:VCALENDAR