BEGIN:VCALENDAR
VERSION:2.0
PRODID:-//wp-events-plugin.com//7.2.1//EN
TZID:Europe/Berlin
X-WR-TIMEZONE:Europe/Berlin
BEGIN:VEVENT
UID:163@dav-leitzachtal.de
DTSTART;TZID=Europe/Berlin:20230507T090000
DTEND;TZID=Europe/Berlin:20230507T160000
DTSTAMP:20221226T150156Z
URL:https://www.dav-leitzachtal.de/wp-touren/events/easy-trailrunde-um-den
 -tegernsee-1000-hm-36-km-s1-s2/
SUMMARY:Easy Trailrunde um den Tegernsee (1000 hm\, 36 km\, S1/S2)
DESCRIPTION:Wir treffen uns um 09:00h am Bahnhof in Gmund und umrunden von 
 dort aus den Tegernsee. Hierbei haben wir zwei große Anstiege. Der erste 
 mit 500 hm hat ein paar steile Rampen\, ist aber dennoch gut zu treten. Be
 rgab geht’s auf einem feinen S1/S2 Trail\, der uns einige Stellen bietet
 \, Spitzkehren\, Stufen und Wurzelfelder zu üben. Danach gibt’s einen k
 leinen Zwischenanstieg und einen weiteren kurzen S1/S2 Trail. Die erste M
 öglichkeit zu einer Einkehr haben wir dann auf der Popper-Wiese direkt am
  See. Gestärkt starten wir zum zweiten Anstieg mit ca. 400 hm\, der uns w
 iederum zu einem größtenteils flowigen S1/S2 Trail bringt. Danach rollen
  wir am See zurück nach Gmund und kehren optional noch im Seeglas ein. A
 chtung: Tour findet nur bei trockenen Trails statt!\n\n\n\nTourdaten: Ca. 
 1000hm\, 36km\, S1/S2 Trails (www.singletrail-skala.de). Die Tour ist nic
 ht geeignet für: Einsteiger\, Jugend unter 16 Jahren. Helm\, Handschuhe\,
  Brille und Protektoren erforderlich!
CATEGORIES:Mountainbike
END:VEVENT
BEGIN:VTIMEZONE
TZID:Europe/Berlin
X-LIC-LOCATION:Europe/Berlin
BEGIN:DAYLIGHT
DTSTART:20230326T030000
TZOFFSETFROM:+0100
TZOFFSETTO:+0200
TZNAME:CEST
END:DAYLIGHT
END:VTIMEZONE
END:VCALENDAR