BEGIN:VCALENDAR
VERSION:2.0
PRODID:-//wp-events-plugin.com//7.2.1//EN
TZID:Europe/Berlin
X-WR-TIMEZONE:Europe/Berlin
BEGIN:VEVENT
UID:159@dav-leitzachtal.de
DTSTART;TZID=Europe/Berlin;VALUE=DATE:20230803
DTEND;TZID=Europe/Berlin;VALUE=DATE:20230807
DTSTAMP:20230103T170231Z
URL:https://www.dav-leitzachtal.de/wp-touren/events/dolomiten-hoehenweg/
SUMMARY:Auf Höhenwegen und Klettersteigen durch die Dolomiten
DESCRIPTION:Vier Tage auf Höhenwegen und Klettersteigen (A\, B mit einzeln
 en C-Stellen) durch die Dolomiten. Klettersteigausrüstung\, Trittsicherhe
 it und Schwindelfreiheit erforderlich. Übern. auf Hütten. Gehzeit bis zu
  7h / 1000 hm. TN-Geb. 24.- Euro. TP und Fahrgemeinschaften werden nach An
 meldung (bei Alexander Strebel) vereinbart.\n\n\n\nTourenbeschreibung: Tag
  1 (+750m -840m 9km): Wir starten in Toblach und nehmen den Bus zum Rifugi
 o Auronzo (2326 m)\, wo wir die erste Etappe beginnen. An den drei Zinnen 
 vorbei gelangen wir zum De Luca Innerkofler-Steig (A\, B mit C Stellen)\, 
 der uns auf den Paternkofel (2744 m) führt. Der Abstieg erfolgt über den
  Gamsschartensteig (B) und über das Büllelejoch zum Rifugio Zsigmondy-Co
 mici (2224 m). Tag 2 (+850m -1180m 9km): Wir queren zum Alpinisteig (B)\, 
 über den wir zunächst auf die Elferscharte (2595 m) und danach zur Rotwa
 ndwiesenhütte (1900 m) gelangen. Tag 3 (+1150m -1090m 8km): Die dritte un
 d schwerste Etappe führt uns über die Klettersteige Rotwandköpfe (A\, B
 ) und Sextner Rotwand (B) auf den Gipfel der Sextner Rotwand (2936 m). Der
  Abstieg erfolgt zunächst über den Klettersteig Mario Zandonella (im Abs
 tieg B\, C) und dann weiter auf einem Steig bis zum Rifugio Antonio Berti 
 (1950 m). Tag 4 (+430m -750m 6km): Die letzte Etappe führt uns über den 
 Creston Popera auf den Arzalpenkopf (2369 m) und von dort über das Arzalp
 enjoch (2291 m) hinunter zum Kreuzbergpass (1636 m). Von dort aus nehmen w
 ir den Bus nach Toblach\, von wo wir die Heimreise antreten.
CATEGORIES:Klettern,Wandern
END:VEVENT
BEGIN:VTIMEZONE
TZID:Europe/Berlin
X-LIC-LOCATION:Europe/Berlin
BEGIN:DAYLIGHT
DTSTART:20230326T030000
TZOFFSETFROM:+0100
TZOFFSETTO:+0200
TZNAME:CEST
END:DAYLIGHT
END:VTIMEZONE
END:VCALENDAR