BEGIN:VCALENDAR
VERSION:2.0
PRODID:-//wp-events-plugin.com//7.2.1//EN
TZID:Europe/Berlin
X-WR-TIMEZONE:Europe/Berlin
BEGIN:VEVENT
UID:167@dav-leitzachtal.de
DTSTART;TZID=Europe/Berlin;VALUE=DATE:20230720
DTEND;TZID=Europe/Berlin;VALUE=DATE:20230724
DTSTAMP:20221226T185200Z
URL:https://www.dav-leitzachtal.de/wp-touren/events/die-besten-trails-rund
 -um-den-kronplatz/
SUMMARY:Die besten Trails rund um den Kronplatz
DESCRIPTION:Am und rund um Kronplatz finden wir eine nicht geahnte Tourenvi
 elfalt vor. Am Berg selbst mit Seilbahnunterstützung gibt es top Freeride
 -Strecken in unterschiedlichen Schwierigkeitslevels. Der ewig lange Herren
 steig\, der Furcia Trail und der Gassl Trail sorgen für erstklassigen Bik
 epark Spass. Rundherum gibt es auch noch einiges zu erkunden\, z.B. die Tr
 ails am Peitlerkofel\, den Hochnall oder den Speikboden. Auf der Hinfahrt 
 werden wir auch noch die Plose mitnehmen.\n\n\n\nWir sind in einer sehr gu
 ten Pension in der Nähe von Olang untergebracht. Übernachtung im Doppel
 zimmer mit Frühstück kostet vsl. 55 Euro pro Person.\nAnreise Donnerstag
  morgen\, Abreise Sonntag nach Tourenende.\n\n\n\nToureninfo: Tagespensum
  ca. 1200 hm Kurbeln + Lifte (ggf. bis zu 300 hm schieben / tragen). Temp
 o: mittel. Trails S2 / S3 (www.singletrail-skala.de). Nicht für Anfänge
 r oder E-Bikes geeignet. Enduro Fully mit mind. 150 mm und Helm / Protekto
 ren erforderlich. TN-Geb. 24.- Euro. TP und Fahrgemeinschaften werden nach
  Anmeldung (bei Alexander Strebel) vereinbart.
CATEGORIES:Mountainbike
END:VEVENT
BEGIN:VTIMEZONE
TZID:Europe/Berlin
X-LIC-LOCATION:Europe/Berlin
BEGIN:DAYLIGHT
DTSTART:20230326T030000
TZOFFSETFROM:+0100
TZOFFSETTO:+0200
TZNAME:CEST
END:DAYLIGHT
END:VTIMEZONE
END:VCALENDAR