BEGIN:VCALENDAR
VERSION:2.0
PRODID:-//wp-events-plugin.com//7.2.1//EN
TZID:Europe/Berlin
X-WR-TIMEZONE:Europe/Berlin
BEGIN:VEVENT
UID:154@dav-leitzachtal.de
DTSTART;TZID=Europe/Berlin;VALUE=DATE:20230517
DTEND;TZID=Europe/Berlin;VALUE=DATE:20230522
DTSTAMP:20221226T130943Z
URL:https://www.dav-leitzachtal.de/wp-touren/events/die-besten-trails-rund
 -um-bozen/
SUMMARY:Die besten Trails rund um Bozen
DESCRIPTION:Perfekte Trails - Cucina Italiana - Leckere Weine\n\n\n\nDie st
 eilen Berghänge rund um Bozen sind sonnenverwöhnt und stecken voller spa
 nnender Trails. Hier\, mitten in Südtirol\, heizt die Sonne mit Glück sc
 hon so ein\, dass man bereits im März in Shirt und Short biken kann. Doch
  das wäre alles nicht so spektakulär\, gäbe es in der Region nicht all 
 die tollen Gondelbahnen\, die das ganze Jahr über in Betrieb sind. Davon 
 profitieren natürlich auch wir Biker\, denn die Seilbahnen transportieren
  Bikes ohne Probleme und das zu kleinen Preisen. In Bozen selbst befinden 
 sich drei Seilbahnen\, im 20 Minuten entfernten Meran sogar sechs Gondelba
 hnen.\n\n\n\nAnspruchsvolle technische Single-Trails rund um Bozen (S2/S3 
 www.singletrail-skala.de). Tägl. bis zu 1200 hm kurbeln + optionaler Lift
 . Übern. auf einem Weingut mit tollem Ausblick und sehr gutem Essen. Endu
 ro Fully mit mind. 150 mm und Helm / Protektoren erforderlich. TN-Geb. 32.
 - Euro. TP und Fahrgemeinschaften werden nach Anmeldung (bei Alexander Str
 ebel) vereinbart.
CATEGORIES:Mountainbike
END:VEVENT
BEGIN:VTIMEZONE
TZID:Europe/Berlin
X-LIC-LOCATION:Europe/Berlin
BEGIN:DAYLIGHT
DTSTART:20230326T030000
TZOFFSETFROM:+0100
TZOFFSETTO:+0200
TZNAME:CEST
END:DAYLIGHT
END:VTIMEZONE
END:VCALENDAR