BEGIN:VCALENDAR
VERSION:2.0
PRODID:-//wp-events-plugin.com//7.2.1//EN
TZID:Europe/Berlin
X-WR-TIMEZONE:Europe/Berlin
BEGIN:VEVENT
UID:141@dav-leitzachtal.de
DTSTART;TZID=Europe/Berlin:20221207T200000
DTEND;TZID=Europe/Berlin:20221207T210000
DTSTAMP:20221202T102610Z
URL:https://www.dav-leitzachtal.de/wp-touren/events/br-buergerforum-zum-th
 ema-wintersport-in-zeiten-von-klimawandel-und-energiekrise/
SUMMARY:BR Sendung "Jetzt red I" in Fischbachau zum Thema Wintersport in Ze
 iten von Klimawandel und Energiekrise
DESCRIPTION:Die Sendung Jetzt red I vom Bayerischen Rundfunk kommt nach F
 ischbachau am 7.12.22\, live 20:15 Uhr.\nThema: Wintersport in Zeiten von
  Klimawandel und Energiekrise. Bayerns Skigebiete rüsten sich für den Sa
 isonstart\, doch welche Zukunft hat das alles noch?\nBürgerinnen und Bür
 ger diskutieren live mit u.a. Hubert Aiwanger\, Bayerischer Wirtschafts- 
 und Tourismusminister (Freie Wähler) und Richard Mergner\, Vorsitzender 
 des BUND Naturschutz.\nKommen Sie und diskutieren mit\, Ihre Stimme ist w
 ichtig! Oder kommen Sie nur in unser Studio in Fischbachau und schauen zu
 . Die kostenlosen Karten für die Sendung reservieren Sie unter 089 – 59
 00 25299 (werktags von 9.00 – 17.00 Uhr) oder per E-Mail:  jetztredi@b
 r.de\nWer gerne mitdiskutieren möchte ist herzlich eingeladen zu unserem 
 Infoabend am Montag\, den 05. Dezember 2022 18.30 bis 20.00 Uhr im\nGasth
 aus Nägele\, Dorfstraße 16\,  83730 Fischbachau.\nWir freuen uns auf Si
 e und bitten um Rückmeldung.
END:VEVENT
BEGIN:VTIMEZONE
TZID:Europe/Berlin
X-LIC-LOCATION:Europe/Berlin
BEGIN:STANDARD
DTSTART:20221030T020000
TZOFFSETFROM:+0200
TZOFFSETTO:+0100
TZNAME:CET
END:STANDARD
END:VTIMEZONE
END:VCALENDAR