BEGIN:VCALENDAR
VERSION:2.0
PRODID:-//wp-events-plugin.com//7.2.1//EN
TZID:Europe/Berlin
X-WR-TIMEZONE:Europe/Berlin
BEGIN:VEVENT
UID:199@dav-leitzachtal.de
DTSTART;TZID=Europe/Berlin:20231108T200000
DTEND;TZID=Europe/Berlin:20231108T221500
DTSTAMP:20230928T144344Z
URL:https://www.dav-leitzachtal.de/wp-touren/events/birgit-lutz-nachruf-au
 f-die-arktis/
SUMMARY:Birgit Lutz: Nachruf auf die Arktis
DESCRIPTION:Am 08.11. um 20:00 Uhr im Klostersaal Fischbachau\n\nBirgit Lut
 z Nachruf auf die Arktis – noch können wir die Welt retten\n\n&nbsp\;\n
 \n
CATEGORIES:Vortrag
END:VEVENT
BEGIN:VTIMEZONE
TZID:Europe/Berlin
X-LIC-LOCATION:Europe/Berlin
BEGIN:STANDARD
DTSTART:20231029T020000
TZOFFSETFROM:+0200
TZOFFSETTO:+0100
TZNAME:CET
END:STANDARD
END:VTIMEZONE
END:VCALENDAR