BEGIN:VCALENDAR
VERSION:2.0
PRODID:-//wp-events-plugin.com//7.2.1//EN
TZID:Europe/Berlin
X-WR-TIMEZONE:Europe/Berlin
BEGIN:VEVENT
UID:181@dav-leitzachtal.de
DTSTART;TZID=Europe/Berlin;VALUE=DATE:20230419
DTEND;TZID=Europe/Berlin;VALUE=DATE:20230420
DTSTAMP:20230416T113659Z
URL:https://www.dav-leitzachtal.de/wp-touren/events/bergwanderung-pendling
 -1563-m/
SUMMARY:Pendling (1563 m)
DESCRIPTION:Die Oberlandler Seniorengruppe unternimmt am Mittwoch eine Berg
 wanderung auf den Pendling (1563 m). Ausgangspunkt für diese Tour ist Hin
 terthiersee/Gasthaus Schneerose. Treffpunkt ist um 9.15 Uhr in Aurach beim
  Kletterstadl. Es werden Fahrgemeinschaften gebildet.\n\nAnmeldungen und I
 nfos bei Julia Riedl\, Tel: 08028/1229 oder 0162/4845129
CATEGORIES:Oberlandler-Senioren,Wandern
END:VEVENT
BEGIN:VTIMEZONE
TZID:Europe/Berlin
X-LIC-LOCATION:Europe/Berlin
BEGIN:DAYLIGHT
DTSTART:20230326T030000
TZOFFSETFROM:+0100
TZOFFSETTO:+0200
TZNAME:CEST
END:DAYLIGHT
END:VTIMEZONE
END:VCALENDAR