BEGIN:VCALENDAR
VERSION:2.0
PRODID:-//wp-events-plugin.com//7.2.1//EN
TZID:Europe/Berlin
X-WR-TIMEZONE:Europe/Berlin
BEGIN:VEVENT
UID:36@dav-leitzachtal.de
DTSTART;TZID=Europe/Berlin:20210714T080000
DTEND;TZID=Europe/Berlin:20210714T130000
DTSTAMP:20210713T082133Z
URL:https://www.dav-leitzachtal.de/wp-touren/events/bergtour-zum-soinsee-o
 berlandler-senioren/
SUMMARY:Bergtour zum Soinsee\,  Oberlandler Senioren
DESCRIPTION:Die Oberlandler Senioren unternehmen am Mittwoch\, den 14. Juli
  eine Bergwanderung zum Soinsee. Los geht’s am Parkplatz Sillberghaus au
 f landschaftlich reizvollen Wegen zum Soinsee und über die Schellenberg- 
 und Niedehoferalm zurück ins Ursprungtal. Die Gehzeit wird ca. 4 ½ Stund
 en betragen.Treffpunkt ist um 8:00 Uhr am Bahnhof Neuhaus bzw. am Kletters
 tadl in Aurach.\n\nAnmeldungen bitte an Otfried Blümel unter 08026/7505.
CATEGORIES:Oberlandler-Senioren
END:VEVENT
BEGIN:VTIMEZONE
TZID:Europe/Berlin
X-LIC-LOCATION:Europe/Berlin
BEGIN:DAYLIGHT
DTSTART:20210328T030000
TZOFFSETFROM:+0100
TZOFFSETTO:+0200
TZNAME:CEST
END:DAYLIGHT
END:VTIMEZONE
END:VCALENDAR