BEGIN:VCALENDAR
VERSION:2.0
PRODID:-//wp-events-plugin.com//7.2.1//EN
TZID:Europe/Berlin
X-WR-TIMEZONE:Europe/Berlin
BEGIN:VEVENT
UID:193@dav-leitzachtal.de
DTSTART;TZID=Europe/Berlin;VALUE=DATE:20230827
DTEND;TZID=Europe/Berlin;VALUE=DATE:20230828
DTSTAMP:20230728T162825Z
URL:https://www.dav-leitzachtal.de/wp-touren/events/bergtour-birkkarspitze
 /
SUMMARY:Bergtour Birkkarspitze
DESCRIPTION:Anspruchsvolle Bergtour\, Trittsicherheit notwendig. Aufstieg 
 über den kleinen Ahornboden zum Karwendelhaus und anschließend über das
  Schlaukar zum Gipfel. ca. 1800HM und 5 1/2 Stunden Aufstieg. Tourenleiter
 : Berger-Hofmann Erich
CATEGORIES:Bergtour
END:VEVENT
BEGIN:VTIMEZONE
TZID:Europe/Berlin
X-LIC-LOCATION:Europe/Berlin
BEGIN:DAYLIGHT
DTSTART:20230326T030000
TZOFFSETFROM:+0100
TZOFFSETTO:+0200
TZNAME:CEST
END:DAYLIGHT
END:VTIMEZONE
END:VCALENDAR