BEGIN:VCALENDAR
VERSION:2.0
PRODID:-//wp-events-plugin.com//7.2.1//EN
TZID:Europe/Berlin
X-WR-TIMEZONE:Europe/Berlin
BEGIN:VEVENT
UID:80@dav-leitzachtal.de
DTSTART;TZID=Europe/Berlin:20220512T190000
DTEND;TZID=Europe/Berlin:20220512T223000
DTSTAMP:20220329T110018Z
URL:https://www.dav-leitzachtal.de/wp-touren/events/bergnarrisch-filmabend
 /
SUMMARY:Bergnarrisch - Filmabend
DESCRIPTION:Ab 19:30 Uhr präsentiert Michael Pause im Klostersaal in Fisch
 bachau wieder ausgewählte Filme vom Bergfilmfestival Tegernsee. Karten nu
 r an der Abendkasse für 10 €.\, Einlass ab 19:00 Uhr.  Infos über die
  Filme in Kürze  auf der Webseite.
CATEGORIES:Vortrag
END:VEVENT
BEGIN:VTIMEZONE
TZID:Europe/Berlin
X-LIC-LOCATION:Europe/Berlin
BEGIN:DAYLIGHT
DTSTART:20220327T030000
TZOFFSETFROM:+0100
TZOFFSETTO:+0200
TZNAME:CEST
END:DAYLIGHT
END:VTIMEZONE
END:VCALENDAR