BEGIN:VCALENDAR
VERSION:2.0
PRODID:-//wp-events-plugin.com//7.2.1//EN
TZID:Europe/Berlin
X-WR-TIMEZONE:Europe/Berlin
BEGIN:VEVENT
UID:176@dav-leitzachtal.de
DTSTART;TZID=Europe/Berlin:20230311T000000
DTEND;TZID=Europe/Berlin:20230311T000000
DTSTAMP:20230306T182635Z
URL:https://www.dav-leitzachtal.de/wp-touren/events/ausflug-in-eine-klette
 rhalle-der-umgebung/
SUMMARY:Ausflug in eine Kletterhalle der Umgebung
DESCRIPTION:Treffpunkt: 10 Uhr am Kletterstadl\, Anmeldung bis Donnerstag 0
 9.03. bei den Jugendleitern oder unter jugend@dav-leitzachtal.de
CATEGORIES:Jugendgruppe,Klettern
END:VEVENT
BEGIN:VTIMEZONE
TZID:Europe/Berlin
X-LIC-LOCATION:Europe/Berlin
BEGIN:STANDARD
DTSTART:20221030T020000
TZOFFSETFROM:+0200
TZOFFSETTO:+0100
TZNAME:CET
END:STANDARD
END:VTIMEZONE
END:VCALENDAR