BEGIN:VCALENDAR
VERSION:2.0
PRODID:-//wp-events-plugin.com//7.2.1//EN
TZID:Europe/Berlin
X-WR-TIMEZONE:Europe/Berlin
BEGIN:VEVENT
UID:203@dav-leitzachtal.de
DTSTART;TZID=Europe/Berlin;VALUE=DATE:20231209
DTEND;TZID=Europe/Berlin;VALUE=DATE:20231210
DTSTAMP:20231205T073338Z
URL:https://www.dav-leitzachtal.de/wp-touren/events/auftakt-skitour-bayer-
 voralpen/
SUMMARY:Skitour Bodenschneid
DESCRIPTION:Geführte Schitour auf die Bodenschneid im Spitzinggebiet.\n\n\
 nAnfahrt mit RVO Bus 9562  ab 9.00 Bahnhof Schliersee (Anschluss zur BRB
   RB55 ab Miesbach 8.45) bis Spitzingsattel. Weitere Zustiegsmöglichkeit
 en in Neuhaus (9.07) und Spitzingkreuzung (9.09). Treffen im Bus! Tourenle
 itung Frieder Scholz\, tel. 08028783\, email: frieder.scholz@dav-leitzacht
 al.de.
CATEGORIES:Skitour
END:VEVENT
BEGIN:VTIMEZONE
TZID:Europe/Berlin
X-LIC-LOCATION:Europe/Berlin
BEGIN:STANDARD
DTSTART:20231029T020000
TZOFFSETFROM:+0200
TZOFFSETTO:+0100
TZNAME:CET
END:STANDARD
END:VTIMEZONE
END:VCALENDAR