BEGIN:VCALENDAR
VERSION:2.0
PRODID:-//wp-events-plugin.com//7.2.1//EN
TZID:Europe/Berlin
X-WR-TIMEZONE:Europe/Berlin
BEGIN:VEVENT
UID:143@dav-leitzachtal.de
DTSTART;TZID=Europe/Berlin;VALUE=DATE:20230315
DTEND;TZID=Europe/Berlin;VALUE=DATE:20230316
DTSTAMP:20230107T142041Z
URL:https://www.dav-leitzachtal.de/wp-touren/events/aschenbrenner-huette-1
 135-m-kaisergebirge/
SUMMARY:Rodeln - Aschenbrenner Hütte\, Kaisergebirge
DESCRIPTION:Rodeltour: Aschenbrenner Hütte 1135 m\, Kaisergebirge\nMittels
 chwere Rodelbahn 6 km oberh. v. Kufstein\, Aufst. 2\,5 Std./900 Hm\nTP: 9.
 00 Uhr\, Bhf. Hausham\, Anmeldung bei Theo Müller\, Tel. 0174 8447642
CATEGORIES:Rodel-Tour
END:VEVENT
BEGIN:VTIMEZONE
TZID:Europe/Berlin
X-LIC-LOCATION:Europe/Berlin
BEGIN:STANDARD
DTSTART:20221030T020000
TZOFFSETFROM:+0200
TZOFFSETTO:+0100
TZNAME:CET
END:STANDARD
END:VTIMEZONE
END:VCALENDAR