BEGIN:VCALENDAR
VERSION:2.0
PRODID:-//wp-events-plugin.com//7.2.1//EN
TZID:Europe/Berlin
X-WR-TIMEZONE:Europe/Berlin
BEGIN:VEVENT
UID:131@dav-leitzachtal.de
DTSTART;TZID=Europe/Berlin;VALUE=DATE:20221019
DTEND;TZID=Europe/Berlin;VALUE=DATE:20221020
DTSTAMP:20221016T105437Z
URL:https://www.dav-leitzachtal.de/wp-touren/events/aiplspitze/
SUMMARY:Aiplspitze 1759 m\, Überschreitung
DESCRIPTION:Die Oberlandler Senioren wandern am Mittwoch 19. Oktober vom Sp
 itzingsee auf die Aiplspitze mit Abstieg nach Geitau. Treffpunkt ist um 9.
 00 am Bahnhof Neuhaus (bzw. bei Ankunft des Zuges aus München um 9.07) zu
 r Weiterfahrt mit RVO Bus zum Spitzingsee\, Rückkehr mit BRB ab Geitau. T
 ourenleitung Frieder Scholz\, Tel. 08028-783
CATEGORIES:Bergtour,Oberlandler-Senioren
END:VEVENT
BEGIN:VTIMEZONE
TZID:Europe/Berlin
X-LIC-LOCATION:Europe/Berlin
BEGIN:DAYLIGHT
DTSTART:20220327T030000
TZOFFSETFROM:+0100
TZOFFSETTO:+0200
TZNAME:CEST
END:DAYLIGHT
END:VTIMEZONE
END:VCALENDAR