BEGIN:VCALENDAR
VERSION:2.0
PRODID:-//wp-events-plugin.com//7.2.1//EN
TZID:Europe/Berlin
X-WR-TIMEZONE:Europe/Berlin
BEGIN:VEVENT
UID:198@dav-leitzachtal.de
DTSTART;TZID=Europe/Berlin:20231013T200000
DTEND;TZID=Europe/Berlin:20231013T220000
DTSTAMP:20230928T143831Z
URL:https://www.dav-leitzachtal.de/wp-touren/events/achim-bogdahn-unter-de
 n-wolken/
SUMMARY:Achim Bogdahn: Unter den Wolken
DESCRIPTION:Am 13.10.2023 um 20:00 im Waitzinger Keller\n(Veranstalter ist 
 die Sektion Zorneding)\n\nBR-Radiomoderator Achim Bogdahn hat sich auf ein
 e Reise durch\nDeutschland gemacht\, um die höchsten Berge aller 16 Bunde
 sländer zu\nerklimmen. Damit er nicht alleine wandert\, lädt er bekannte
  Menschen aus\nden jeweiligen Regionen ein ihn zu begleiten. Unter anderem
  war Hans-\nJoachim Watzke\, Chef von Borussia Dortmund dabei\, aber auch 
 Judith\nHolofernes von „Wir sind Helden“\, Ex-Bischöfin Margot Käßm
 ann\, Mehmet\nScholl oder auch Edgar Reitz begleiteten ihn auf seinen Berg
 touren.\n\n\n\n\n[caption id="attachment_1092" align="alignnone" width="19
 2"] Unter den Wolken von Achim Bogdahn[/caption]\n\n&nbsp\;\n\nUnterwegs i
 st Achim Bogdahn nur mit öffentlichen Verkehrsmitteln\,\nübernachtet wir
 d auch nicht in Hotels\, sondern bei meist wildfremden\nMenschen auf dem S
 ofa. Aus all diesen wunderbaren und zum Teil skurrilen\nBegegnungen ist ei
 n Buch entstanden\, über Menschen und über das Leben –\nmit vielen Umw
 egen\, Anekdoten und Exkursen.\nNachdem in den Vortrag auch die Benützun\
 n\n
CATEGORIES:Vortrag
LOCATION:https://www.waitzinger-keller.de/
END:VEVENT
BEGIN:VTIMEZONE
TZID:Europe/Berlin
X-LIC-LOCATION:Europe/Berlin
BEGIN:DAYLIGHT
DTSTART:20230326T030000
TZOFFSETFROM:+0100
TZOFFSETTO:+0200
TZNAME:CEST
END:DAYLIGHT
END:VTIMEZONE
END:VCALENDAR