BEGIN:VCALENDAR
VERSION:2.0
PRODID:-//wp-events-plugin.com//7.2.1//EN
TZID:Europe/Berlin
X-WR-TIMEZONE:Europe/Berlin
BEGIN:VEVENT
UID:126@dav-leitzachtal.de
DTSTART;TZID=Europe/Berlin;VALUE=DATE:20221028
DTEND;TZID=Europe/Berlin;VALUE=DATE:20221102
DTSTAMP:20220918T172730Z
URL:https://www.dav-leitzachtal.de/wp-touren/events/abklettern-in-arco-gar
 daseeberge/
SUMMARY:Abklettern in Arco\, Gardaseeberge
DESCRIPTION:Mittelschwere Klettertouren IV. - VI. Grad an den Sonnenplatten
  u. anderen schönen\nWänden rund um Arco\, Ausrüstg. E\, Übernachtg. i
 n FeWo\, TN-Geb. 32.- EUR\nTreff: Nach Vereinbarung\, Anmeldung bis 15.10.
  bei Frieder Scholz\, Tel. 08028 783
CATEGORIES:Klettern
END:VEVENT
BEGIN:VTIMEZONE
TZID:Europe/Berlin
X-LIC-LOCATION:Europe/Berlin
BEGIN:DAYLIGHT
DTSTART:20220327T030000
TZOFFSETFROM:+0100
TZOFFSETTO:+0200
TZNAME:CEST
END:DAYLIGHT
BEGIN:STANDARD
DTSTART:20221030T020000
TZOFFSETFROM:+0200
TZOFFSETTO:+0100
TZNAME:CET
END:STANDARD
END:VTIMEZONE
END:VCALENDAR