BEGIN:VCALENDAR
VERSION:2.0
PRODID:-//wp-events-plugin.com//7.2.1//EN
TZID:Europe/Berlin
X-WR-TIMEZONE:Europe/Berlin
BEGIN:VEVENT
UID:101@dav-leitzachtal.de
DTSTART;TZID=Europe/Berlin;VALUE=DATE:20220917
DTEND;TZID=Europe/Berlin;VALUE=DATE:20220918
DTSTAMP:20220420T001540Z
URL:https://www.dav-leitzachtal.de/wp-touren/events/2022-zinnenberg/
SUMMARY:Zinnenberg 1565 m\, Chiemgauer Alpen
DESCRIPTION:Mittelschwere Bergwanderung\, teilw. Trittsicherheit erforderl.
  Aufstieg von\nInnerwald ca. 3 Std./900 Hm\, Abst. über Brandelberg u. Br
 andelalm\nTP: Nach Vereinbarung\, Anmeldung bei Jeannette Neumeyer
CATEGORIES:Bergtour
END:VEVENT
BEGIN:VTIMEZONE
TZID:Europe/Berlin
X-LIC-LOCATION:Europe/Berlin
BEGIN:DAYLIGHT
DTSTART:20220327T030000
TZOFFSETFROM:+0100
TZOFFSETTO:+0200
TZNAME:CEST
END:DAYLIGHT
END:VTIMEZONE
END:VCALENDAR