BEGIN:VCALENDAR
VERSION:2.0
PRODID:-//wp-events-plugin.com//7.2.1//EN
TZID:Europe/Berlin
X-WR-TIMEZONE:Europe/Berlin
BEGIN:VEVENT
UID:95@dav-leitzachtal.de
DTSTART;TZID=Europe/Berlin;VALUE=DATE:20220802
DTEND;TZID=Europe/Berlin;VALUE=DATE:20220803
DTSTAMP:20220420T000428Z
URL:https://www.dav-leitzachtal.de/wp-touren/events/2022-wildalpjoch/
SUMMARY:Wildalpjoch 1720 m\, Wendelstein 1838 m\, Bayer. Voralpen
DESCRIPTION:Mittelschwere\, lange Bergtour\, Aufst. v. Unteren Sudelfeld ü
 ber Lacheralm zum\nWildalpjoch 2.5 Std./700 Hm\, Übergang z. Wendelstein 
 2 Std./200 Hm\, Einkehr\,\nAbst. nach Fischbachau ca. 2\,5 Std. Fahrt m. B
 us-Ringlinie z. Ausgangspunkt\nTP: 8.15 Uhr\, Bhf. Fischbachau\, Anmeldung
  bei Birgit Wörndl
CATEGORIES:Bergtour
END:VEVENT
BEGIN:VTIMEZONE
TZID:Europe/Berlin
X-LIC-LOCATION:Europe/Berlin
BEGIN:DAYLIGHT
DTSTART:20220327T030000
TZOFFSETFROM:+0100
TZOFFSETTO:+0200
TZNAME:CEST
END:DAYLIGHT
END:VTIMEZONE
END:VCALENDAR