BEGIN:VCALENDAR
VERSION:2.0
PRODID:-//wp-events-plugin.com//7.2.1//EN
TZID:Europe/Berlin
X-WR-TIMEZONE:Europe/Berlin
BEGIN:VEVENT
UID:90@dav-leitzachtal.de
DTSTART;TZID=Europe/Berlin;VALUE=DATE:20220703
DTEND;TZID=Europe/Berlin;VALUE=DATE:20220708
DTSTAMP:20220419T235800Z
URL:https://www.dav-leitzachtal.de/wp-touren/events/2022-sarntaler-hufeise
 n-gipfelbesteigungen/
SUMMARY:Sarntaler Hufeisen\, Gipfelbesteigungen\, Sarntaler Alp. Südtirol
DESCRIPTION:Mittelschwere Durchquerung d. Sarntaler Alp.\, mögl. Gipfel Ka
 ssianspitze 2581 m\,\nSchrotthorn\, Penser Weißhorn 2705 m\, Trittsicherh
 eit u. Schwindelfreiheit erford.\nGehzeiten 5 - 6 Std.\, An- u. Rückreise
  mit Zug ab Kufstein\, TN-Geb. 32.- EUR\nTP: Nach Vereinbarung\, Anmeldung
  bei Julia Riedl
CATEGORIES:Bergtour
END:VEVENT
BEGIN:VTIMEZONE
TZID:Europe/Berlin
X-LIC-LOCATION:Europe/Berlin
BEGIN:DAYLIGHT
DTSTART:20220327T030000
TZOFFSETFROM:+0100
TZOFFSETTO:+0200
TZNAME:CEST
END:DAYLIGHT
END:VTIMEZONE
END:VCALENDAR