BEGIN:VCALENDAR
VERSION:2.0
PRODID:-//wp-events-plugin.com//7.2.1//EN
TZID:Europe/Berlin
X-WR-TIMEZONE:Europe/Berlin
BEGIN:VEVENT
UID:93@dav-leitzachtal.de
DTSTART;TZID=Europe/Berlin;VALUE=DATE:20220717
DTEND;TZID=Europe/Berlin;VALUE=DATE:20220718
DTSTAMP:20220420T000205Z
URL:https://www.dav-leitzachtal.de/wp-touren/events/2022-pyramidenspitze/
SUMMARY:Pyramidenspitze 1997 m\, Kaisergebirge
DESCRIPTION:Mittelschwere Bergwanderung\, Kondition erforderl.\, Aufst. v. 
 Oberndorf/Ebbs über\nHinterkaiserfeldenalm ca. 5 Std./1500 Hm\, Abst. üb
 . Vorderkaiserfeldenhütte.\nTP: Nach Vereinbarung\, Anmeldung bei Jeannet
 te Neumeyer
CATEGORIES:Bergtour
END:VEVENT
BEGIN:VTIMEZONE
TZID:Europe/Berlin
X-LIC-LOCATION:Europe/Berlin
BEGIN:DAYLIGHT
DTSTART:20220327T030000
TZOFFSETFROM:+0100
TZOFFSETTO:+0200
TZNAME:CEST
END:DAYLIGHT
END:VTIMEZONE
END:VCALENDAR