BEGIN:VCALENDAR
VERSION:2.0
PRODID:-//wp-events-plugin.com//7.2.1//EN
TZID:Europe/Berlin
X-WR-TIMEZONE:Europe/Berlin
BEGIN:VEVENT
UID:94@dav-leitzachtal.de
DTSTART;TZID=Europe/Berlin;VALUE=DATE:20220722
DTEND;TZID=Europe/Berlin;VALUE=DATE:20220725
DTSTAMP:20220420T000316Z
URL:https://www.dav-leitzachtal.de/wp-touren/events/2022-olperer/
SUMMARY:Olperer 3476 m\, Schrammacher 3410 m\, Zillertaler Alpen
DESCRIPTION:Mittelschwere Hochtouren\, TN-Geb. 16.- EUR\nTP: Nach Vereinbar
 ung\, Anmeldung bei Frieder Scholz
CATEGORIES:Hochtour
END:VEVENT
BEGIN:VTIMEZONE
TZID:Europe/Berlin
X-LIC-LOCATION:Europe/Berlin
BEGIN:DAYLIGHT
DTSTART:20220327T030000
TZOFFSETFROM:+0100
TZOFFSETTO:+0200
TZNAME:CEST
END:DAYLIGHT
END:VTIMEZONE
END:VCALENDAR