BEGIN:VCALENDAR
VERSION:2.0
PRODID:-//wp-events-plugin.com//7.2.1//EN
TZID:Europe/Berlin
X-WR-TIMEZONE:Europe/Berlin
BEGIN:VEVENT
UID:97@dav-leitzachtal.de
DTSTART;TZID=Europe/Berlin;VALUE=DATE:20220807
DTEND;TZID=Europe/Berlin;VALUE=DATE:20220808
DTSTAMP:20220420T000744Z
URL:https://www.dav-leitzachtal.de/wp-touren/events/2022-ofentalscharte/
SUMMARY:Ofentalscharte 2350 m \, Berchtesgadner Alpen
DESCRIPTION:Leichte Bergtour in alpiner Umgebung\, Kondition erford.\, Aufs
 t. 4\,5 Std./1400 Hm\nTP: 6.00 Uhr\, Kletterstadl Aurach\, Anmeldung bis 5
 .8. bei Erich Berger-Hofmann
CATEGORIES:Bergtour
END:VEVENT
BEGIN:VTIMEZONE
TZID:Europe/Berlin
X-LIC-LOCATION:Europe/Berlin
BEGIN:DAYLIGHT
DTSTART:20220327T030000
TZOFFSETFROM:+0100
TZOFFSETTO:+0200
TZNAME:CEST
END:DAYLIGHT
END:VTIMEZONE
END:VCALENDAR