BEGIN:VCALENDAR
VERSION:2.0
PRODID:-//wp-events-plugin.com//7.2.1//EN
TZID:Europe/Berlin
X-WR-TIMEZONE:Europe/Berlin
BEGIN:VEVENT
UID:87@dav-leitzachtal.de
DTSTART;TZID=Europe/Berlin;VALUE=DATE:20220701
DTEND;TZID=Europe/Berlin;VALUE=DATE:20220704
DTSTAMP:20220419T235148Z
URL:https://www.dav-leitzachtal.de/wp-touren/events/2022-oberreintal-klett
 ertouren/
SUMMARY:Oberreintal Klettertouren im IV. - VI. Grad\, Wetterstein
DESCRIPTION:Klettertouren im IV. - VI. Grad\, Übernachtg. in d. urgemütli
 chen Oberreintalhütte\n(Selbstversorger\, Getränke gibt‘s)\, Ausrüstg
  E. Aufst. mit Rad v. Olympiaschanze\nGarmisch durch‘s Reintal bis Abzwe
 igung Hütte. TN-Geb. 16.- EUR\nTP: 7.00 Uhr Kletterstadl\, 8.20 Bhf. Haus
 ham\, Anmeldung bei Frieder Scholz
CATEGORIES:Klettern
END:VEVENT
BEGIN:VTIMEZONE
TZID:Europe/Berlin
X-LIC-LOCATION:Europe/Berlin
BEGIN:DAYLIGHT
DTSTART:20220327T030000
TZOFFSETFROM:+0100
TZOFFSETTO:+0200
TZNAME:CEST
END:DAYLIGHT
END:VTIMEZONE
END:VCALENDAR