BEGIN:VCALENDAR
VERSION:2.0
PRODID:-//wp-events-plugin.com//7.2.1//EN
TZID:Europe/Berlin
X-WR-TIMEZONE:Europe/Berlin
BEGIN:VEVENT
UID:103@dav-leitzachtal.de
DTSTART;TZID=Europe/Berlin;VALUE=DATE:20220501
DTEND;TZID=Europe/Berlin;VALUE=DATE:20220502
DTSTAMP:20220420T002943Z
URL:https://www.dav-leitzachtal.de/wp-touren/events/2022-kletterskulptur-k
 ufstein/
SUMMARY:Kletterskulptur Kufstein
DESCRIPTION:Kletterskulptur Kufstein\, bei Schlechtwetter in Kletterhalle i
 . der Umgebung\nTP: 10.00 Uhr Kletterstadl Aurach\, Anmeldung:  jugend@da
 v-leitzachtal.de
CATEGORIES:Jugendgruppe,Klettern
END:VEVENT
BEGIN:VTIMEZONE
TZID:Europe/Berlin
X-LIC-LOCATION:Europe/Berlin
BEGIN:DAYLIGHT
DTSTART:20220327T030000
TZOFFSETFROM:+0100
TZOFFSETTO:+0200
TZNAME:CEST
END:DAYLIGHT
END:VTIMEZONE
END:VCALENDAR