BEGIN:VCALENDAR
VERSION:2.0
PRODID:-//wp-events-plugin.com//7.2.1//EN
TZID:Europe/Berlin
X-WR-TIMEZONE:Europe/Berlin
BEGIN:VEVENT
UID:108@dav-leitzachtal.de
DTSTART;TZID=Europe/Berlin;VALUE=DATE:20220715
DTEND;TZID=Europe/Berlin;VALUE=DATE:20220718
DTSTAMP:20220420T004223Z
URL:https://www.dav-leitzachtal.de/wp-touren/events/2022-huettenwochenende
 /
SUMMARY:Hüttenwochenende mit Bergtour und Klettern
DESCRIPTION:Familien-Bergtour mit Übernachtung auf der Schlierseer-Hütte\
 , Selbstversorgerhütte\, Spitzingsee-Gebiet.\n\nFamilien mit Kindern/Juge
 ndlichen 9-16 Jahre\n\n"Neue"\, interessierte  Familien gerne melden.\n\n
 Treffpunkt Nach Vereinbarung\, Anmeldung bis 8.7.\n\nAnmeldung bei Rainer 
 Preuschl
CATEGORIES:Bergtour,Familiengruppe,Klettern
END:VEVENT
BEGIN:VTIMEZONE
TZID:Europe/Berlin
X-LIC-LOCATION:Europe/Berlin
BEGIN:DAYLIGHT
DTSTART:20220327T030000
TZOFFSETFROM:+0100
TZOFFSETTO:+0200
TZNAME:CEST
END:DAYLIGHT
END:VTIMEZONE
END:VCALENDAR