BEGIN:VCALENDAR
VERSION:2.0
PRODID:-//wp-events-plugin.com//7.2.1//EN
TZID:Europe/Berlin
X-WR-TIMEZONE:Europe/Berlin
BEGIN:VEVENT
UID:104@dav-leitzachtal.de
DTSTART;TZID=Europe/Berlin;VALUE=DATE:20220514
DTEND;TZID=Europe/Berlin;VALUE=DATE:20220515
DTSTAMP:20220504T180656Z
URL:https://www.dav-leitzachtal.de/wp-touren/events/2022-hochseilgarten-os
 tin/
SUMMARY:Hochseilgarten Ostin
DESCRIPTION:Treffpunkt: 9:30 Uhr am Kletterstadl in Aurach.  Infos zu Prei
 sen  unter https://www.kletterwald-tegernsee.de/?page_id=366.  Anmeldung
  bis Do Abend\, 12.05.22 bei den Jugendleitern oder jugend@dav-leitzachtal
 .de
CATEGORIES:Jugendgruppe,Klettern
END:VEVENT
BEGIN:VTIMEZONE
TZID:Europe/Berlin
X-LIC-LOCATION:Europe/Berlin
BEGIN:DAYLIGHT
DTSTART:20220327T030000
TZOFFSETFROM:+0100
TZOFFSETTO:+0200
TZNAME:CEST
END:DAYLIGHT
END:VTIMEZONE
END:VCALENDAR