BEGIN:VCALENDAR
VERSION:2.0
PRODID:-//wp-events-plugin.com//7.2.1//EN
TZID:Europe/Berlin
X-WR-TIMEZONE:Europe/Berlin
BEGIN:VEVENT
UID:100@dav-leitzachtal.de
DTSTART;TZID=Europe/Berlin;VALUE=DATE:20220827
DTEND;TZID=Europe/Berlin;VALUE=DATE:20220911
DTSTAMP:20220420T001251Z
URL:https://www.dav-leitzachtal.de/wp-touren/events/2022-grande-traversata
 -delle-alpi/
SUMMARY:Grande Traversata delle Alpi 3. Teil\, Piemont/Italien
DESCRIPTION:Weitwanderweg v. Aostatal durch d. Lanzotäler n. Susa\, 12 Eta
 ppen\, hochalpine\nWanderwege\, Gehz. 5 bis 8 Std.\, Trittsicherheit\, alp
 ine Erfahrung u. gute Kondition\nerford.\, Übern. in Talquartieren od. H
 ütten\, Anreise m. Zug/Bus\, TN-Geb. 104.- EUR\nTP: Nach Vereinbarung\, A
 nmeldung bis 15.8. bei Julia Riedl
CATEGORIES:Bergtour
END:VEVENT
BEGIN:VTIMEZONE
TZID:Europe/Berlin
X-LIC-LOCATION:Europe/Berlin
BEGIN:DAYLIGHT
DTSTART:20220327T030000
TZOFFSETFROM:+0100
TZOFFSETTO:+0200
TZNAME:CEST
END:DAYLIGHT
END:VTIMEZONE
END:VCALENDAR