BEGIN:VCALENDAR
VERSION:2.0
PRODID:-//wp-events-plugin.com//7.2.1//EN
TZID:Europe/Berlin
X-WR-TIMEZONE:Europe/Berlin
BEGIN:VEVENT
UID:96@dav-leitzachtal.de
DTSTART;TZID=Europe/Berlin;VALUE=DATE:20220806
DTEND;TZID=Europe/Berlin;VALUE=DATE:20220807
DTSTAMP:20220420T000625Z
URL:https://www.dav-leitzachtal.de/wp-touren/events/2022-gipfelrunde-im-pr
 iental/
SUMMARY:Vier-Gipfelrunde im Priental m. Klausenberg 1548 m\, Chiemgauer Alp
 en
DESCRIPTION:Mittelschwere Bergwanderung über Hofalm z. Laubenstein\, Heura
 ffelkopf\,\nPredigtstuhl bis Klausenberg\, stellenw. Trittsicherheit erfor
 derl.\, Abstieg über\nBaumgartner- und Ellandalm\, Aufst. ca. 3\,5 Std./1
 000 Hm\nTP: Nach Vereinbarung\, Anmeldung bei Jeannette Neumeyer
CATEGORIES:Bergtour
END:VEVENT
BEGIN:VTIMEZONE
TZID:Europe/Berlin
X-LIC-LOCATION:Europe/Berlin
BEGIN:DAYLIGHT
DTSTART:20220327T030000
TZOFFSETFROM:+0100
TZOFFSETTO:+0200
TZNAME:CEST
END:DAYLIGHT
END:VTIMEZONE
END:VCALENDAR