BEGIN:VCALENDAR
VERSION:2.0
PRODID:-//wp-events-plugin.com//7.2.1//EN
TZID:Europe/Berlin
X-WR-TIMEZONE:Europe/Berlin
BEGIN:VEVENT
UID:107@dav-leitzachtal.de
DTSTART;TZID=Europe/Berlin;VALUE=DATE:20220522
DTEND;TZID=Europe/Berlin;VALUE=DATE:20220523
DTSTAMP:20220420T003821Z
URL:https://www.dav-leitzachtal.de/wp-touren/events/2022-fruehjahrswanderu
 ng/
SUMMARY:Frühjahrswanderung der Fam.Gruppe
DESCRIPTION:Familien-Bergtour mit Kindern/Jugendlichen 9-16 Jahre in unsere
 r Region. Ziel wird rechtzeitig bekannt gegeben\,\n\n"Neue"\, interessiert
 e  Familien gerne melden.\n\nTreffpunkt Nach Vereinbarung\, Anmeldung bis
  20.5.\n\nAnmeldung bei Rainer Preuschl
CATEGORIES:Bergtour,Familiengruppe
END:VEVENT
BEGIN:VTIMEZONE
TZID:Europe/Berlin
X-LIC-LOCATION:Europe/Berlin
BEGIN:DAYLIGHT
DTSTART:20220327T030000
TZOFFSETFROM:+0100
TZOFFSETTO:+0200
TZNAME:CEST
END:DAYLIGHT
END:VTIMEZONE
END:VCALENDAR