BEGIN:VCALENDAR
VERSION:2.0
PRODID:-//wp-events-plugin.com//7.2.1//EN
TZID:Europe/Berlin
X-WR-TIMEZONE:Europe/Berlin
BEGIN:VEVENT
UID:109@dav-leitzachtal.de
DTSTART;TZID=Europe/Berlin;VALUE=DATE:20220713
DTEND;TZID=Europe/Berlin;VALUE=DATE:20220714
DTSTAMP:20220712T074342Z
URL:https://www.dav-leitzachtal.de/wp-touren/events/2022-abendwanderung-zu
 m-schwarzenberg/
SUMMARY:Sonnenuntergang\, Vollmond-Aufgang am Schwarzenberg
DESCRIPTION:Die DAV Sektion Leitzachtal macht im Rahmen des Sektionsabends 
 am Mittwoch 13. Juli eine Abendwanderung auf den Schwarzenberg. Treffpunkt
  ist um 18.00 beim Gasthof Kirchstiegl."\n\n\nTreffpunkt: 18.00 Uhr Kirchs
 tiegl. Anmeldung nicht notwendig\,
CATEGORIES:Wandern
END:VEVENT
BEGIN:VTIMEZONE
TZID:Europe/Berlin
X-LIC-LOCATION:Europe/Berlin
BEGIN:DAYLIGHT
DTSTART:20220327T030000
TZOFFSETFROM:+0100
TZOFFSETTO:+0200
TZNAME:CEST
END:DAYLIGHT
END:VTIMEZONE
END:VCALENDAR